BEGIN:VCALENDAR
VERSION:2.0
PRODID:-//University Motors Online - ECPv6.15.20//NONSGML v1.0//EN
CALSCALE:GREGORIAN
METHOD:PUBLISH
X-WR-CALNAME:University Motors Online
X-ORIGINAL-URL:https://universitymotors.online
X-WR-CALDESC:Events for University Motors Online
REFRESH-INTERVAL;VALUE=DURATION:PT1H
X-Robots-Tag:noindex
X-PUBLISHED-TTL:PT1H
BEGIN:VTIMEZONE
TZID:UTC
BEGIN:STANDARD
TZOFFSETFROM:+0000
TZOFFSETTO:+0000
TZNAME:UTC
DTSTART:20210101T000000
END:STANDARD
END:VTIMEZONE
BEGIN:VEVENT
DTSTART;TZID=UTC:20221217T180000
DTEND;TZID=UTC:20221217T233000
DTSTAMP:20260423T054505
CREATED:20221111T205237Z
LAST-MODIFIED:20221112T080557Z
UID:10000003-1671300000-1671319800@universitymotors.online
SUMMARY:MG Car Club Christmas Party in Fairpoint\, NY
DESCRIPTION:MG Car Club of Western New York’s Annual Christmas Party returns! \nWe have arraigned for a very special Guest Speaker this year: John Twist of University Motors. You may have seen John at various MG events doing tech seminars\, or watched his popular videos on YouTube. Whatever John brings to the party\, we’re sure it will be informative and enjoyable. \nSaturday\, December 17\nStratford Room of Eagle Vail Golf Course\, 4344 Fairport Nine Mile Point Rd\, Fairport\, NY 14450 \nCash Bar Cocktails at 6:00 – 7:00 with dinner at 7:00. The Cash Bar will remain open until 11:00.
URL:https://universitymotors.online/event/2022-mg-car-club-christmas-party-in-fairpoint-ny/
ATTACH;FMTTYPE=image/jpeg:https://universitymotors.online/wp-content/uploads/2022/11/MG-Santa-300x300-1.jpg
END:VEVENT
END:VCALENDAR